
BEGIN:VCALENDAR
VERSION:2.0
PRODID:-//VITURA //NONSGML Events //EN
CALSCALE:GREGORIAN
X-WR-CALNAME:VITURA
BEGIN:VEVENT
CREATED:20200309T152837Z
UID:4631
DTEND;VALUE=DATE:20230729T100000
DTSTART;VALUE=DATE:20260729T080000
DTSTAMP:20260425T172408Z
LOCATION:42\, rue de Bassano 75008 Paris
DESCRIPTION:
SUMMARY:Résultats du 1er semestre 2026
ORGANIZER:VITURA
URL;VALUE=URI:https://vitura.fr/agenda/
TRANSP:OPAQUE
BEGIN:VALARM
ACTION:DISPLAY
TRIGGER;VALUE=DATE-TIME:20230729T100000
DESCRIPTION:Reminder for Résultats du 1er semestre 2026
END:VALARM
END:VEVENT

END:VCALENDAR

